BEGIN:VCALENDAR
VERSION:2.0
PRODID:-//Peter Selgin - ECPv5.9.1//NONSGML v1.0//EN
CALSCALE:GREGORIAN
METHOD:PUBLISH
X-WR-CALNAME:Peter Selgin
X-ORIGINAL-URL:https://peterselgin.com
X-WR-CALDESC:Events for Peter Selgin
BEGIN:VTIMEZONE
TZID:UTC
BEGIN:STANDARD
TZOFFSETFROM:+0000
TZOFFSETTO:+0000
TZNAME:UTC
DTSTART:20160101T000000
END:STANDARD
END:VTIMEZONE
BEGIN:VEVENT
DTSTART;TZID=UTC:20160616T080000
DTEND;TZID=UTC:20160616T170000
DTSTAMP:20260421T113327
CREATED:20160208T155516Z
LAST-MODIFIED:20160208T160002Z
UID:1339-1466064000-1466096400@peterselgin.com
SUMMARY:Antioch Residency
DESCRIPTION:
URL:https://peterselgin.com/event/atioch-residency/
LOCATION:Antioch University\, 400 Corporate Pointe\, Culver City\, CA\, 90230\, United States
CATEGORIES:Readings,Workshop,Workshop / Seminar
END:VEVENT
END:VCALENDAR