BEGIN:VCALENDAR
VERSION:2.0
PRODID:-//Peter Selgin - ECPv5.9.1//NONSGML v1.0//EN
CALSCALE:GREGORIAN
METHOD:PUBLISH
X-WR-CALNAME:Peter Selgin
X-ORIGINAL-URL:https://peterselgin.com
X-WR-CALDESC:Events for Peter Selgin
BEGIN:VTIMEZONE
TZID:UTC
BEGIN:STANDARD
TZOFFSETFROM:+0000
TZOFFSETTO:+0000
TZNAME:UTC
DTSTART:20160101T000000
END:STANDARD
END:VTIMEZONE
BEGIN:VEVENT
DTSTART;TZID=UTC:20160305T020000
DTEND;TZID=UTC:20160305T160000
DTSTAMP:20260421T100703
CREATED:20160208T182712Z
LAST-MODIFIED:20160220T183346Z
UID:1365-1457143200-1457193600@peterselgin.com
SUMMARY:Augusta Literary Festival
DESCRIPTION:
URL:https://peterselgin.com/event/augusta-literary-festival/
LOCATION:Augusta Literary Festival\, 823 Telfair Street\, Augusta\, GA\, 30901\, United States
CATEGORIES:Readings,Workshop / Seminar
END:VEVENT
END:VCALENDAR