BEGIN:VCALENDAR
VERSION:2.0
PRODID:-//Peter Selgin - ECPv5.9.1//NONSGML v1.0//EN
CALSCALE:GREGORIAN
METHOD:PUBLISH
X-WR-CALNAME:Peter Selgin
X-ORIGINAL-URL:https://peterselgin.com
X-WR-CALDESC:Events for Peter Selgin
BEGIN:VTIMEZONE
TZID:UTC
BEGIN:STANDARD
TZOFFSETFROM:+0000
TZOFFSETTO:+0000
TZNAME:UTC
DTSTART:20160101T000000
END:STANDARD
END:VTIMEZONE
BEGIN:VEVENT
DTSTART;TZID=UTC:20160401T110000
DTEND;TZID=UTC:20160401T120000
DTSTAMP:20260421T114230
CREATED:20160208T155516Z
LAST-MODIFIED:20160208T155538Z
UID:1323-1459508400-1459512000@peterselgin.com
SUMMARY:AWP Conference & Book Fair
DESCRIPTION:
URL:https://peterselgin.com/event/awp-conference-book-fair/
LOCATION:AWP Conference & Bookfair Los Angeles\, 1201 South Figueroa Street\, Los Angeles\, CA\, 90015\, United States
CATEGORIES:Readings
END:VEVENT
END:VCALENDAR