BEGIN:VCALENDAR
VERSION:2.0
PRODID:-//Peter Selgin - ECPv5.9.1//NONSGML v1.0//EN
CALSCALE:GREGORIAN
METHOD:PUBLISH
X-WR-CALNAME:Peter Selgin
X-ORIGINAL-URL:https://peterselgin.com
X-WR-CALDESC:Events for Peter Selgin
BEGIN:VTIMEZONE
TZID:UTC
BEGIN:STANDARD
TZOFFSETFROM:+0000
TZOFFSETTO:+0000
TZNAME:UTC
DTSTART:20160101T000000
END:STANDARD
END:VTIMEZONE
BEGIN:VEVENT
DTSTART;TZID=UTC:20160522T050000
DTEND;TZID=UTC:20160522T190000
DTSTAMP:20260421T102038
CREATED:20160208T155516Z
LAST-MODIFIED:20160208T175113Z
UID:1328-1463893200-1463943600@peterselgin.com
SUMMARY:Book Signing Party
DESCRIPTION:
URL:https://peterselgin.com/event/book-signing-party/
LOCATION:Book Signing Party\, Washington\, D.C.\, United States
CATEGORIES:Readings
END:VEVENT
END:VCALENDAR