BEGIN:VCALENDAR
VERSION:2.0
PRODID:-//Peter Selgin - ECPv5.9.1//NONSGML v1.0//EN
CALSCALE:GREGORIAN
METHOD:PUBLISH
X-WR-CALNAME:Peter Selgin
X-ORIGINAL-URL:https://peterselgin.com
X-WR-CALDESC:Events for Peter Selgin
BEGIN:VTIMEZONE
TZID:UTC
BEGIN:STANDARD
TZOFFSETFROM:+0000
TZOFFSETTO:+0000
TZNAME:UTC
DTSTART:20160101T000000
END:STANDARD
END:VTIMEZONE
BEGIN:VEVENT
DTSTART;TZID=UTC:20160505T190000
DTEND;TZID=UTC:20160505T210000
DTSTAMP:20260421T111055
CREATED:20160425T132835Z
LAST-MODIFIED:20160427T162403Z
UID:1577-1462474800-1462482000@peterselgin.com
SUMMARY:Good Karma Yoga Center
DESCRIPTION:Book Launch/Reading and Party for THE INVENTORS
URL:https://peterselgin.com/event/good-karma-yoga-center/
LOCATION:Good Karma Yoga Center\, 361 S. Wayne Street \, Milledgeville\, GA\, 31061\, United States
END:VEVENT
END:VCALENDAR