BEGIN:VCALENDAR
VERSION:2.0
PRODID:-//Peter Selgin - ECPv5.9.1//NONSGML v1.0//EN
CALSCALE:GREGORIAN
METHOD:PUBLISH
X-WR-CALNAME:Peter Selgin
X-ORIGINAL-URL:https://peterselgin.com
X-WR-CALDESC:Events for Peter Selgin
BEGIN:VTIMEZONE
TZID:UTC
BEGIN:STANDARD
TZOFFSETFROM:+0000
TZOFFSETTO:+0000
TZNAME:UTC
DTSTART:20150101T000000
END:STANDARD
END:VTIMEZONE
BEGIN:VEVENT
DTSTART;TZID=UTC:20150814T080000
DTEND;TZID=UTC:20150814T170000
DTSTAMP:20260421T095933
CREATED:20150814T152043Z
LAST-MODIFIED:20160208T175137Z
UID:1213-1439539200-1439571600@peterselgin.com
SUMMARY:New Event - Test
DESCRIPTION:New Event – testing.
URL:https://peterselgin.com/event/new-event-test/
CATEGORIES:News,Readings
END:VEVENT
END:VCALENDAR