BEGIN:VCALENDAR
VERSION:2.0
PRODID:-//Peter Selgin - ECPv5.9.1//NONSGML v1.0//EN
CALSCALE:GREGORIAN
METHOD:PUBLISH
X-WR-CALNAME:Peter Selgin
X-ORIGINAL-URL:https://peterselgin.com
X-WR-CALDESC:Events for Peter Selgin
BEGIN:VTIMEZONE
TZID:UTC
BEGIN:STANDARD
TZOFFSETFROM:+0000
TZOFFSETTO:+0000
TZNAME:UTC
DTSTART:20160101T000000
END:STANDARD
END:VTIMEZONE
BEGIN:VEVENT
DTSTART;TZID=UTC:20160505T080000
DTEND;TZID=UTC:20160505T170000
DTSTAMP:20260421T120053
CREATED:20160723T193247Z
LAST-MODIFIED:20160723T193326Z
UID:1588-1462435200-1462467600@peterselgin.com
SUMMARY:Reading at Good Karma Yoga Center\, Milledgeville\, GA
DESCRIPTION:
URL:https://peterselgin.com/event/reading-at-good-karma-yoga-center-milledgeville-ga/
CATEGORIES:Readings
END:VEVENT
END:VCALENDAR