BEGIN:VCALENDAR
VERSION:2.0
PRODID:-//Peter Selgin - ECPv5.9.1//NONSGML v1.0//EN
CALSCALE:GREGORIAN
METHOD:PUBLISH
X-WR-CALNAME:Peter Selgin
X-ORIGINAL-URL:https://peterselgin.com
X-WR-CALDESC:Events for Peter Selgin
BEGIN:VTIMEZONE
TZID:UTC
BEGIN:STANDARD
TZOFFSETFROM:+0000
TZOFFSETTO:+0000
TZNAME:UTC
DTSTART:20150101T000000
END:STANDARD
END:VTIMEZONE
BEGIN:VEVENT
DTSTART;TZID=UTC:20151101T080000
DTEND;TZID=UTC:20151101T080000
DTSTAMP:20260421T111343
CREATED:20150812T205821Z
LAST-MODIFIED:20160208T181258Z
UID:1207-1446364800-1446364800@peterselgin.com
SUMMARY:THE INVENTORS due from Hawthorne Books\, June 2016!
DESCRIPTION:Hawthorne Books and Literary Arts will release my new memoir\, THE INVENTORS\, in June 2016. It has been my great pleasure to work with Publisher Editor Rhonda Hughes. Lidia Yuknavich\, fabulous author of the fabulous THE CHRONOLOGY OF WATER (another Hawthorne title) will be writing the forward. The memoir will also feature an afterward by my twin brother GEORGE SELGIN. Yes\, indeed\, folks\, this will be the first ever book holding works by both Selgin brothers!
URL:https://peterselgin.com/event/the-inventors-due-out-from-hawthorne-books-june-2016/
LOCATION:Hawthorne Books & Literary Arts\, 2201 NE 23rd Avenue Third Floor\, Portland\, OR\, 97212\, United States
CATEGORIES:News
END:VEVENT
END:VCALENDAR