BEGIN:VCALENDAR
VERSION:2.0
PRODID:-//Peter Selgin - ECPv5.9.1//NONSGML v1.0//EN
CALSCALE:GREGORIAN
METHOD:PUBLISH
X-WR-CALNAME:Peter Selgin
X-ORIGINAL-URL:https://peterselgin.com
X-WR-CALDESC:Events for Peter Selgin
BEGIN:VTIMEZONE
TZID:UTC
BEGIN:STANDARD
TZOFFSETFROM:+0000
TZOFFSETTO:+0000
TZNAME:UTC
DTSTART:20150101T000000
END:STANDARD
END:VTIMEZONE
BEGIN:VEVENT
DTSTART;TZID=UTC:20150506T080000
DTEND;TZID=UTC:20150506T170000
DTSTAMP:20260421T124041
CREATED:20150506T201705Z
LAST-MODIFIED:20160208T175137Z
UID:1205-1430899200-1430931600@peterselgin.com
SUMMARY:This Just in from Publisher's Marketplace:
DESCRIPTION:Flannery O’Connor Award for Fiction winner Peter Selgin’s THE INVENTORS\, about his father and the man he calls “the teacher\,” their remarkable and secret lives\, and how these two charismatic men shaped the author’s life and world\, to Rhonda Hughes at Hawthorne Books\, in a nice deal\, for publication in Fall 2016\, by Christopher Rhodes at James Fitzgerald Agency (World). \nThanks to Rhonda Hughes of Hawthorne Books and especially to Christopher Rhodes\, my stalwart and extraordinary agent. And to all who helped me in various ways with this book in its many incarnations over the past—well\, over quite a few years.
URL:https://peterselgin.com/event/this-just-in-from-publishers-marketplace/
CATEGORIES:News,Readings
END:VEVENT
END:VCALENDAR